BEGIN:VCALENDAR
VERSION:2.0
PRODID:-//Forest Hill Park - ECPv6.15.17.1//NONSGML v1.0//EN
CALSCALE:GREGORIAN
METHOD:PUBLISH
X-WR-CALNAME:Forest Hill Park
X-ORIGINAL-URL:https://fhphoa.com
X-WR-CALDESC:Events for Forest Hill Park
REFRESH-INTERVAL;VALUE=DURATION:PT1H
X-Robots-Tag:noindex
X-PUBLISHED-TTL:PT1H
BEGIN:VTIMEZONE
TZID:America/New_York
BEGIN:DAYLIGHT
TZOFFSETFROM:-0500
TZOFFSETTO:-0400
TZNAME:EDT
DTSTART:20230312T070000
END:DAYLIGHT
BEGIN:STANDARD
TZOFFSETFROM:-0400
TZOFFSETTO:-0500
TZNAME:EST
DTSTART:20231105T060000
END:STANDARD
BEGIN:DAYLIGHT
TZOFFSETFROM:-0500
TZOFFSETTO:-0400
TZNAME:EDT
DTSTART:20240310T070000
END:DAYLIGHT
BEGIN:STANDARD
TZOFFSETFROM:-0400
TZOFFSETTO:-0500
TZNAME:EST
DTSTART:20241103T060000
END:STANDARD
BEGIN:DAYLIGHT
TZOFFSETFROM:-0500
TZOFFSETTO:-0400
TZNAME:EDT
DTSTART:20250309T070000
END:DAYLIGHT
BEGIN:STANDARD
TZOFFSETFROM:-0400
TZOFFSETTO:-0500
TZNAME:EST
DTSTART:20251102T060000
END:STANDARD
BEGIN:DAYLIGHT
TZOFFSETFROM:-0500
TZOFFSETTO:-0400
TZNAME:EDT
DTSTART:20260308T070000
END:DAYLIGHT
BEGIN:STANDARD
TZOFFSETFROM:-0400
TZOFFSETTO:-0500
TZNAME:EST
DTSTART:20261101T060000
END:STANDARD
END:VTIMEZONE
BEGIN:VEVENT
DTSTART;TZID=America/New_York:20250719T130000
DTEND;TZID=America/New_York:20250719T210000
DTSTAMP:20260421T182334
CREATED:20250625T233545Z
LAST-MODIFIED:20250625T233545Z
UID:10008705-1752930000-1752958800@fhphoa.com
SUMMARY:Slufik party
DESCRIPTION:This is correct date\, the July 13th reservation can be removed
URL:https://fhphoa.com/fhp-event/slufik-party-2/2025-07-19/2/
LOCATION:FHP Picnic Area\, 47 Forest Hill Drive\, West Milford\, 07480\, United States
ORGANIZER;CN="Toni Slufik":MAILTO:Slucan13@gmail.com
END:VEVENT
BEGIN:VEVENT
DTSTART;TZID=America/New_York:20250719T080000
DTEND;TZID=America/New_York:20250719T170000
DTSTAMP:20260421T182334
CREATED:20250625T233545Z
LAST-MODIFIED:20250625T233545Z
UID:10008704-1752912000-1752944400@fhphoa.com
SUMMARY:Slufik party
DESCRIPTION:This is correct date\, the July 13th reservation can be removed
URL:https://fhphoa.com/fhp-event/slufik-party-2/2025-07-19/1/
LOCATION:FHP Picnic Area\, 47 Forest Hill Drive\, West Milford\, 07480\, United States
ORGANIZER;CN="Toni Slufik":MAILTO:Slucan13@gmail.com
END:VEVENT
BEGIN:VEVENT
DTSTART;TZID=America/New_York:20250713T120000
DTEND;TZID=America/New_York:20250713T200000
DTSTAMP:20260421T182334
CREATED:20250222T230106Z
LAST-MODIFIED:20250222T230106Z
UID:10008690-1752408000-1752436800@fhphoa.com
SUMMARY:Slufik Party
DESCRIPTION:Tylers birthday
URL:https://fhphoa.com/fhp-event/slufik-party/
LOCATION:FHP Picnic Area\, 47 Forest Hill Drive\, West Milford\, 07480\, United States
CATEGORIES:Private Party
ORGANIZER;CN="Toni Slufik":MAILTO:Slucan13@gmail.com
END:VEVENT
BEGIN:VEVENT
DTSTART;TZID=America/New_York:20240714T120000
DTEND;TZID=America/New_York:20240714T180000
DTSTAMP:20260421T182334
CREATED:20240601T011129Z
LAST-MODIFIED:20240601T011129Z
UID:10008658-1720958400-1720980000@fhphoa.com
SUMMARY:Tylers party
DESCRIPTION:Sunday funday
URL:https://fhphoa.com/fhp-event/tylers-party-2/
LOCATION:FHP Picnic Area\, 47 Forest Hill Drive\, West Milford\, 07480\, United States
ORGANIZER;CN="Toni Slufik":MAILTO:Slucan13@gmail.com
END:VEVENT
BEGIN:VEVENT
DTSTART;TZID=America/New_York:20240713T000000
DTEND;TZID=America/New_York:20240713T235959
DTSTAMP:20260421T182334
CREATED:20240504T135933Z
LAST-MODIFIED:20240520T024537Z
UID:10008650-1720828800-1720915199@fhphoa.com
SUMMARY:Slufik - bday party
DESCRIPTION:Kids birthday party
URL:https://fhphoa.com/fhp-event/slufik-bday-party/
LOCATION:FHP Picnic Area\, 47 Forest Hill Drive\, West Milford\, 07480\, United States
CATEGORIES:Private Party
ORGANIZER;CN="Toni Slufik":MAILTO:Slucan13@gmail.com
END:VEVENT
BEGIN:VEVENT
DTSTART;TZID=America/New_York:20240531T120000
DTEND;TZID=America/New_York:20240531T180000
DTSTAMP:20260421T182334
CREATED:20240531T215448Z
LAST-MODIFIED:20240531T215448Z
UID:10008657-1717156800-1717178400@fhphoa.com
SUMMARY:Tyler’s party
DESCRIPTION:Sunday funday
URL:https://fhphoa.com/fhp-event/tylers-party/
LOCATION:FHP Picnic Area\, 47 Forest Hill Drive\, West Milford\, 07480\, United States
CATEGORIES:Project
ORGANIZER;CN="Toni Slufik":MAILTO:Slucan13@gmail.com
END:VEVENT
END:VCALENDAR