BEGIN:VCALENDAR
VERSION:2.0
PRODID:-//Forest Hill Park - ECPv6.15.17.1//NONSGML v1.0//EN
CALSCALE:GREGORIAN
METHOD:PUBLISH
X-WR-CALNAME:Forest Hill Park
X-ORIGINAL-URL:https://fhphoa.com
X-WR-CALDESC:Events for Forest Hill Park
REFRESH-INTERVAL;VALUE=DURATION:PT1H
X-Robots-Tag:noindex
X-PUBLISHED-TTL:PT1H
BEGIN:VTIMEZONE
TZID:America/New_York
BEGIN:DAYLIGHT
TZOFFSETFROM:-0500
TZOFFSETTO:-0400
TZNAME:EDT
DTSTART:20150308T070000
END:DAYLIGHT
BEGIN:STANDARD
TZOFFSETFROM:-0400
TZOFFSETTO:-0500
TZNAME:EST
DTSTART:20151101T060000
END:STANDARD
BEGIN:DAYLIGHT
TZOFFSETFROM:-0500
TZOFFSETTO:-0400
TZNAME:EDT
DTSTART:20160313T070000
END:DAYLIGHT
BEGIN:STANDARD
TZOFFSETFROM:-0400
TZOFFSETTO:-0500
TZNAME:EST
DTSTART:20161106T060000
END:STANDARD
BEGIN:DAYLIGHT
TZOFFSETFROM:-0500
TZOFFSETTO:-0400
TZNAME:EDT
DTSTART:20170312T070000
END:DAYLIGHT
BEGIN:STANDARD
TZOFFSETFROM:-0400
TZOFFSETTO:-0500
TZNAME:EST
DTSTART:20171105T060000
END:STANDARD
END:VTIMEZONE
BEGIN:VEVENT
DTSTART;TZID=America/New_York:20160616T193000
DTEND;TZID=America/New_York:20160616T203000
DTSTAMP:20260423T150153
CREATED:20160613T150906Z
LAST-MODIFIED:20160613T150906Z
UID:10000023-1466105400-1466109000@fhphoa.com
SUMMARY:Board Meeting (Special)
DESCRIPTION:The Board of Trustees will be having a short meeting on Thursday\, June 16\, 2016 to discuss the construction project and purchases for the office. There will also be a short Executive Session.  The meeting starts at 7:30pm at the FHP Office. The agenda is subject to change without notice. \nMembers are permitted to attend and observe the meeting except for the Executive Session.  Members cannot participate in the meeting and there will be no Open Q&A session.  If you have a specific matter that you need to bring before the Board\, please use the contact form or call the Secretary at 973-846-4025 x500 to schedule a hearing and get on the agenda.  A hearing will be thirty (30) minutes maximum and cover one topic.  While every effort will be made to accommodate requests\, please be aware that there may not be an opportunity to conduct a hearing at the next scheduled Board meeting.
URL:https://fhphoa.com/fhp-event/board-meeting-special/
LOCATION:FHP Clubhouse\, 47 Forest Hill Drive\, West Milford\, NJ\, 07480\, United States
CATEGORIES:FHP Meeting
ORGANIZER;CN="Board Secretary":MAILTO:secretary@fhphoa.com
GEO:41.027371;-74.395358
X-APPLE-STRUCTURED-LOCATION;VALUE=URI;X-ADDRESS=FHP Clubhouse 47 Forest Hill Drive West Milford NJ 07480 United States;X-APPLE-RADIUS=500;X-TITLE=47 Forest Hill Drive:geo:-74.395358,41.027371
END:VEVENT
BEGIN:VEVENT
DTSTART;TZID=America/New_York:20160618T153000
DTEND;TZID=America/New_York:20160618T180000
DTSTAMP:20260423T150153
CREATED:20160301T003747Z
LAST-MODIFIED:20160301T003904Z
UID:10002089-1466263800-1466272800@fhphoa.com
SUMMARY:Kid's Fishing Derby
DESCRIPTION:
URL:https://fhphoa.com/fhp-event/kids-fishing-derby/
LOCATION:FHP Picnic Area\, 47 Forest Hill Drive\, West Milford\, 07480\, United States
CATEGORIES:FHP Event
END:VEVENT
END:VCALENDAR