BEGIN:VCALENDAR
VERSION:2.0
PRODID:-//Forest Hill Park - ECPv6.15.17.1//NONSGML v1.0//EN
CALSCALE:GREGORIAN
METHOD:PUBLISH
X-ORIGINAL-URL:https://fhphoa.com
X-WR-CALDESC:Events for Forest Hill Park
REFRESH-INTERVAL;VALUE=DURATION:PT1H
X-Robots-Tag:noindex
X-PUBLISHED-TTL:PT1H
BEGIN:VTIMEZONE
TZID:America/New_York
BEGIN:DAYLIGHT
TZOFFSETFROM:-0500
TZOFFSETTO:-0400
TZNAME:EDT
DTSTART:20150308T070000
END:DAYLIGHT
BEGIN:STANDARD
TZOFFSETFROM:-0400
TZOFFSETTO:-0500
TZNAME:EST
DTSTART:20151101T060000
END:STANDARD
BEGIN:DAYLIGHT
TZOFFSETFROM:-0500
TZOFFSETTO:-0400
TZNAME:EDT
DTSTART:20160313T070000
END:DAYLIGHT
BEGIN:STANDARD
TZOFFSETFROM:-0400
TZOFFSETTO:-0500
TZNAME:EST
DTSTART:20161106T060000
END:STANDARD
BEGIN:DAYLIGHT
TZOFFSETFROM:-0500
TZOFFSETTO:-0400
TZNAME:EDT
DTSTART:20170312T070000
END:DAYLIGHT
BEGIN:STANDARD
TZOFFSETFROM:-0400
TZOFFSETTO:-0500
TZNAME:EST
DTSTART:20171105T060000
END:STANDARD
END:VTIMEZONE
BEGIN:VEVENT
DTSTART;TZID=America/New_York:20160315T193000
DTEND;TZID=America/New_York:20160315T230000
DTSTAMP:20260424T032059
CREATED:20150309T135849Z
LAST-MODIFIED:20181127T071036Z
UID:10001963-1458070200-1458082800@fhphoa.com
SUMMARY:Board of Trustees Meeting
DESCRIPTION:Meeting starts at 7:30pm. All members in good standing are welcome to come to the Board meeting as observers except for Executive Session.  If you would like to address the Board for any reason\, please contact the Board Secretary in advance of the meeting to get on the agenda.
URL:https://fhphoa.com/fhp-event/board-of-trustees-meeting-2016-01-19/2016-03-15/
LOCATION:FHP Clubhouse\, 47 Forest Hill Drive\, West Milford\, NJ\, 07480\, United States
CATEGORIES:FHP Meeting
GEO:41.027371;-74.395358
X-APPLE-STRUCTURED-LOCATION;VALUE=URI;X-ADDRESS=FHP Clubhouse 47 Forest Hill Drive West Milford NJ 07480 United States;X-APPLE-RADIUS=500;X-TITLE=47 Forest Hill Drive:geo:-74.395358,41.027371
END:VEVENT
BEGIN:VEVENT
DTSTART;TZID=America/New_York:20160320T120000
DTEND;TZID=America/New_York:20160320T143000
DTSTAMP:20260424T032059
CREATED:20160301T003526Z
LAST-MODIFIED:20160301T003526Z
UID:10000020-1458475200-1458484200@fhphoa.com
SUMMARY:Easter Egg Hunt
DESCRIPTION:Hop on over for holiday fun including crafts\, snacks and the traditional Easter Egg Hunt!!!  The event is for association member families.  Don’t forget to bring your baskets.  Please make sure to RSVP if you plan to attend.
URL:https://fhphoa.com/fhp-event/easter-egg-hunt-2/
LOCATION:Skylands Ice World\, 2765 State Hwy 23\, Stockholm\, NJ\, 07460\, United States
CATEGORIES:FHP Event
GEO:41.0887551;-74.5209649
X-APPLE-STRUCTURED-LOCATION;VALUE=URI;X-ADDRESS=Skylands Ice World 2765 State Hwy 23 Stockholm NJ 07460 United States;X-APPLE-RADIUS=500;X-TITLE=2765 State Hwy 23:geo:-74.5209649,41.0887551
END:VEVENT
END:VCALENDAR