BEGIN:VCALENDAR
VERSION:2.0
PRODID:-//Forest Hill Park - ECPv6.15.17.1//NONSGML v1.0//EN
CALSCALE:GREGORIAN
METHOD:PUBLISH
X-WR-CALNAME:Forest Hill Park
X-ORIGINAL-URL:https://fhphoa.com
X-WR-CALDESC:Events for Forest Hill Park
REFRESH-INTERVAL;VALUE=DURATION:PT1H
X-Robots-Tag:noindex
X-PUBLISHED-TTL:PT1H
BEGIN:VTIMEZONE
TZID:America/New_York
BEGIN:DAYLIGHT
TZOFFSETFROM:-0500
TZOFFSETTO:-0400
TZNAME:EDT
DTSTART:20150308T070000
END:DAYLIGHT
BEGIN:STANDARD
TZOFFSETFROM:-0400
TZOFFSETTO:-0500
TZNAME:EST
DTSTART:20151101T060000
END:STANDARD
BEGIN:DAYLIGHT
TZOFFSETFROM:-0500
TZOFFSETTO:-0400
TZNAME:EDT
DTSTART:20160313T070000
END:DAYLIGHT
BEGIN:STANDARD
TZOFFSETFROM:-0400
TZOFFSETTO:-0500
TZNAME:EST
DTSTART:20161106T060000
END:STANDARD
BEGIN:DAYLIGHT
TZOFFSETFROM:-0500
TZOFFSETTO:-0400
TZNAME:EDT
DTSTART:20170312T070000
END:DAYLIGHT
BEGIN:STANDARD
TZOFFSETFROM:-0400
TZOFFSETTO:-0500
TZNAME:EST
DTSTART:20171105T060000
END:STANDARD
END:VTIMEZONE
BEGIN:VEVENT
DTSTART;TZID=America/New_York:20160716T140000
DTEND;TZID=America/New_York:20160716T230000
DTSTAMP:20260423T075053
CREATED:20160301T004032Z
LAST-MODIFIED:20160301T004032Z
UID:10002091-1468677600-1468710000@fhphoa.com
SUMMARY:Annual Picnic
DESCRIPTION:
URL:https://fhphoa.com/fhp-event/annual-picnic-2/
LOCATION:FHP Picnic Area\, 47 Forest Hill Drive\, West Milford\, 07480\, United States
CATEGORIES:FHP Event
END:VEVENT
BEGIN:VEVENT
DTSTART;TZID=America/New_York:20160717T140000
DTEND;TZID=America/New_York:20160717T230000
DTSTAMP:20260423T075053
CREATED:20160301T004125Z
LAST-MODIFIED:20160301T004125Z
UID:10002092-1468764000-1468796400@fhphoa.com
SUMMARY:Annual Picnic (Rain Date)
DESCRIPTION:
URL:https://fhphoa.com/fhp-event/annual-picnic-rain-date-2/
LOCATION:FHP Picnic Area\, 47 Forest Hill Drive\, West Milford\, 07480\, United States
CATEGORIES:FHP Event
END:VEVENT
BEGIN:VEVENT
DTSTART;TZID=America/New_York:20160719T193000
DTEND;TZID=America/New_York:20160719T230000
DTSTAMP:20260423T075053
CREATED:20150309T135849Z
LAST-MODIFIED:20181127T071036Z
UID:10001967-1468956600-1468969200@fhphoa.com
SUMMARY:Board of Trustees Meeting
DESCRIPTION:Meeting starts at 7:30pm. All members in good standing are welcome to come to the Board meeting as observers except for Executive Session.  If you would like to address the Board for any reason\, please contact the Board Secretary in advance of the meeting to get on the agenda.
URL:https://fhphoa.com/fhp-event/board-of-trustees-meeting-2016-01-19/2016-07-19/
LOCATION:FHP Clubhouse\, 47 Forest Hill Drive\, West Milford\, NJ\, 07480\, United States
CATEGORIES:FHP Meeting
GEO:41.027371;-74.395358
X-APPLE-STRUCTURED-LOCATION;VALUE=URI;X-ADDRESS=FHP Clubhouse 47 Forest Hill Drive West Milford NJ 07480 United States;X-APPLE-RADIUS=500;X-TITLE=47 Forest Hill Drive:geo:-74.395358,41.027371
END:VEVENT
END:VCALENDAR