BEGIN:VCALENDAR
VERSION:2.0
PRODID:-//Forest Hill Park - ECPv6.15.17.1//NONSGML v1.0//EN
CALSCALE:GREGORIAN
METHOD:PUBLISH
X-WR-CALNAME:Forest Hill Park
X-ORIGINAL-URL:https://fhphoa.com
X-WR-CALDESC:Events for Forest Hill Park
REFRESH-INTERVAL;VALUE=DURATION:PT1H
X-Robots-Tag:noindex
X-PUBLISHED-TTL:PT1H
BEGIN:VTIMEZONE
TZID:America/New_York
BEGIN:DAYLIGHT
TZOFFSETFROM:-0500
TZOFFSETTO:-0400
TZNAME:EDT
DTSTART:20150308T070000
END:DAYLIGHT
BEGIN:STANDARD
TZOFFSETFROM:-0400
TZOFFSETTO:-0500
TZNAME:EST
DTSTART:20151101T060000
END:STANDARD
BEGIN:DAYLIGHT
TZOFFSETFROM:-0500
TZOFFSETTO:-0400
TZNAME:EDT
DTSTART:20160313T070000
END:DAYLIGHT
BEGIN:STANDARD
TZOFFSETFROM:-0400
TZOFFSETTO:-0500
TZNAME:EST
DTSTART:20161106T060000
END:STANDARD
BEGIN:DAYLIGHT
TZOFFSETFROM:-0500
TZOFFSETTO:-0400
TZNAME:EDT
DTSTART:20170312T070000
END:DAYLIGHT
BEGIN:STANDARD
TZOFFSETFROM:-0400
TZOFFSETTO:-0500
TZNAME:EST
DTSTART:20171105T060000
END:STANDARD
END:VTIMEZONE
BEGIN:VEVENT
DTSTART;TZID=America/New_York:20160514T090000
DTEND;TZID=America/New_York:20160514T090000
DTSTAMP:20260423T162424
CREATED:20160218T180948Z
LAST-MODIFIED:20160218T180948Z
UID:10000013-1463216400-1463216400@fhphoa.com
SUMMARY:Spring Work Weekend
DESCRIPTION:Report to the office at 9:00am to sign-in.  Lunch will be provided.  By-laws require one person over the age of sixteen (16) from each member household to participate.  Failure to participate or sign-out after the full day will result in a $200 assessment.  If you cannot attend a particular work weekend for some reason\, please contact the Board secretary to make other arrangements.
URL:https://fhphoa.com/fhp-event/spring-work-weekend/
LOCATION:FHP Clubhouse\, 47 Forest Hill Drive\, West Milford\, NJ\, 07480\, United States
CATEGORIES:FHP Event
ORGANIZER;CN="Board Secretary":MAILTO:secretary@fhphoa.com
GEO:41.027371;-74.395358
X-APPLE-STRUCTURED-LOCATION;VALUE=URI;X-ADDRESS=FHP Clubhouse 47 Forest Hill Drive West Milford NJ 07480 United States;X-APPLE-RADIUS=500;X-TITLE=47 Forest Hill Drive:geo:-74.395358,41.027371
END:VEVENT
BEGIN:VEVENT
DTSTART;TZID=America/New_York:20160517T193000
DTEND;TZID=America/New_York:20160517T230000
DTSTAMP:20260423T162424
CREATED:20150309T135849Z
LAST-MODIFIED:20181127T071036Z
UID:10001965-1463513400-1463526000@fhphoa.com
SUMMARY:Board of Trustees Meeting
DESCRIPTION:Meeting starts at 7:30pm. All members in good standing are welcome to come to the Board meeting as observers except for Executive Session.  If you would like to address the Board for any reason\, please contact the Board Secretary in advance of the meeting to get on the agenda.
URL:https://fhphoa.com/fhp-event/board-of-trustees-meeting-2016-01-19/2016-05-17/
LOCATION:FHP Clubhouse\, 47 Forest Hill Drive\, West Milford\, NJ\, 07480\, United States
CATEGORIES:FHP Meeting
GEO:41.027371;-74.395358
X-APPLE-STRUCTURED-LOCATION;VALUE=URI;X-ADDRESS=FHP Clubhouse 47 Forest Hill Drive West Milford NJ 07480 United States;X-APPLE-RADIUS=500;X-TITLE=47 Forest Hill Drive:geo:-74.395358,41.027371
END:VEVENT
BEGIN:VEVENT
DTSTART;TZID=America/New_York:20160521T090000
DTEND;TZID=America/New_York:20160521T090000
DTSTAMP:20260423T162424
CREATED:20160218T181130Z
LAST-MODIFIED:20160218T181130Z
UID:10000014-1463821200-1463821200@fhphoa.com
SUMMARY:Spring Work Weekend (Rain Date)
DESCRIPTION:Report to the office at 9:00am to sign-in.  Lunch will be provided.  By-laws require one person over the age of sixteen (16) from each member household to participate.  Failure to participate or sign-out after the full day will result in a $200 assessment.  If you cannot attend a particular work weekend for some reason\, please contact the Board secretary to make other arrangements.
URL:https://fhphoa.com/fhp-event/spring-work-weekend-rain-date-2/
LOCATION:FHP Clubhouse\, 47 Forest Hill Drive\, West Milford\, NJ\, 07480\, United States
CATEGORIES:FHP Event
ORGANIZER;CN="Board Secretary":MAILTO:secretary@fhphoa.com
GEO:41.027371;-74.395358
X-APPLE-STRUCTURED-LOCATION;VALUE=URI;X-ADDRESS=FHP Clubhouse 47 Forest Hill Drive West Milford NJ 07480 United States;X-APPLE-RADIUS=500;X-TITLE=47 Forest Hill Drive:geo:-74.395358,41.027371
END:VEVENT
BEGIN:VEVENT
DTSTART;VALUE=DATE:20160528
DTEND;VALUE=DATE:20160529
DTSTAMP:20260423T162424
CREATED:20160219T144935Z
LAST-MODIFIED:20160219T145005Z
UID:10000017-1464393600-1464479999@fhphoa.com
SUMMARY:Beach Opens for the Season
DESCRIPTION:
URL:https://fhphoa.com/fhp-event/beach-opens-for-the-season-2/
LOCATION:FHP Picnic Area\, 47 Forest Hill Drive\, West Milford\, 07480\, United States
CATEGORIES:FHP Event
END:VEVENT
END:VCALENDAR