BEGIN:VCALENDAR
VERSION:2.0
PRODID:-//Forest Hill Park - ECPv6.15.17.1//NONSGML v1.0//EN
CALSCALE:GREGORIAN
METHOD:PUBLISH
X-WR-CALNAME:Forest Hill Park
X-ORIGINAL-URL:https://fhphoa.com
X-WR-CALDESC:Events for Forest Hill Park
REFRESH-INTERVAL;VALUE=DURATION:PT1H
X-Robots-Tag:noindex
X-PUBLISHED-TTL:PT1H
BEGIN:VTIMEZONE
TZID:America/New_York
BEGIN:DAYLIGHT
TZOFFSETFROM:-0500
TZOFFSETTO:-0400
TZNAME:EDT
DTSTART:20140309T070000
END:DAYLIGHT
BEGIN:STANDARD
TZOFFSETFROM:-0400
TZOFFSETTO:-0500
TZNAME:EST
DTSTART:20141102T060000
END:STANDARD
BEGIN:DAYLIGHT
TZOFFSETFROM:-0500
TZOFFSETTO:-0400
TZNAME:EDT
DTSTART:20150308T070000
END:DAYLIGHT
BEGIN:STANDARD
TZOFFSETFROM:-0400
TZOFFSETTO:-0500
TZNAME:EST
DTSTART:20151101T060000
END:STANDARD
BEGIN:DAYLIGHT
TZOFFSETFROM:-0500
TZOFFSETTO:-0400
TZNAME:EDT
DTSTART:20160313T070000
END:DAYLIGHT
BEGIN:STANDARD
TZOFFSETFROM:-0400
TZOFFSETTO:-0500
TZNAME:EST
DTSTART:20161106T060000
END:STANDARD
END:VTIMEZONE
BEGIN:VEVENT
DTSTART;VALUE=DATE:20150907
DTEND;VALUE=DATE:20150908
DTSTAMP:20260420T013606
CREATED:20150325T082233Z
LAST-MODIFIED:20150325T082233Z
UID:10002077-1441584000-1441670399@fhphoa.com
SUMMARY:Beach Closes for the Season
DESCRIPTION:
URL:https://fhphoa.com/fhp-event/beach-closes-for-the-season/
LOCATION:FHP Picnic Area\, 47 Forest Hill Drive\, West Milford\, 07480\, United States
CATEGORIES:FHP Event
END:VEVENT
BEGIN:VEVENT
DTSTART;VALUE=DATE:20150907
DTEND;VALUE=DATE:20150908
DTSTAMP:20260420T013606
CREATED:20150325T035937Z
LAST-MODIFIED:20150325T035937Z
UID:10000052-1441584000-1441670399@fhphoa.com
SUMMARY:Labor Day
DESCRIPTION:
URL:https://fhphoa.com/fhp-event/labor-day/
LOCATION:No Venue\, West Milford\, NJ\, 07480
GEO:41.0985461;-74.3939339
END:VEVENT
BEGIN:VEVENT
DTSTART;TZID=America/New_York:20150906T140000
DTEND;TZID=America/New_York:20150906T200000
DTSTAMP:20260420T013606
CREATED:20150821T113857Z
LAST-MODIFIED:20150821T113857Z
UID:10002086-1441548000-1441569600@fhphoa.com
SUMMARY:Private Party
DESCRIPTION:Mariola  will lifeguard
URL:https://fhphoa.com/fhp-event/private-party/
LOCATION:FHP Picnic Area\, 47 Forest Hill Drive\, West Milford\, 07480\, United States
ORGANIZER;CN="Gabriela Grygus":MAILTO:gabriela.grygus@nyumc.org
END:VEVENT
BEGIN:VEVENT
DTSTART;TZID=America/New_York:20150809T140000
DTEND;TZID=America/New_York:20150809T230000
DTSTAMP:20260420T013606
CREATED:20150325T035655Z
LAST-MODIFIED:20160301T004049Z
UID:10000053-1439128800-1439161200@fhphoa.com
SUMMARY:Annual Picnic (Rain Date)
DESCRIPTION:
URL:https://fhphoa.com/fhp-event/annual-picnic-rain-date/
LOCATION:FHP Picnic Area\, 47 Forest Hill Drive\, West Milford\, 07480\, United States
CATEGORIES:FHP Event
END:VEVENT
BEGIN:VEVENT
DTSTART;TZID=America/New_York:20150808T140000
DTEND;TZID=America/New_York:20150808T230000
DTSTAMP:20260420T013606
CREATED:20150325T035613Z
LAST-MODIFIED:20160301T004101Z
UID:10000054-1439042400-1439074800@fhphoa.com
SUMMARY:Annual Picnic
DESCRIPTION:
URL:https://fhphoa.com/fhp-event/annual-picnic/
LOCATION:FHP Picnic Area\, 47 Forest Hill Drive\, West Milford\, 07480\, United States
CATEGORIES:FHP Event
END:VEVENT
BEGIN:VEVENT
DTSTART;TZID=America/New_York:20150801T130000
DTEND;TZID=America/New_York:20150801T210000
DTSTAMP:20260420T013606
CREATED:20150727T164139Z
LAST-MODIFIED:20150727T164139Z
UID:10002085-1438434000-1438462800@fhphoa.com
SUMMARY:Grygus Private Party
DESCRIPTION:Private Party
URL:https://fhphoa.com/fhp-event/grygus-private-party/
LOCATION:FHP Picnic Area\, 47 Forest Hill Drive\, West Milford\, 07480\, United States
ORGANIZER;CN="Gabriela Grygus":MAILTO:gabriela.grygus@nyumc.org
END:VEVENT
BEGIN:VEVENT
DTSTART;TZID=America/New_York:20150729T193000
DTEND;TZID=America/New_York:20150729T230000
DTSTAMP:20260420T013606
CREATED:20150309T135849Z
LAST-MODIFIED:20150719T035429Z
UID:10002072-1438198200-1438210800@fhphoa.com
SUMMARY:Board of Trustees Meeting
DESCRIPTION:Meeting starts at 7:30pm. All members in good standing are welcome to come to the Board meeting as observers except for Executive Session.  If you would like to address the board for any reason\, please contact the Board Secretary in advance of the meeting to get on the agenda.
URL:https://fhphoa.com/fhp-event/board-of-trustees-meeting-2015-07-21/
LOCATION:FHP Clubhouse\, 47 Forest Hill Drive\, West Milford\, NJ\, 07480\, United States
CATEGORIES:FHP Meeting
GEO:41.027371;-74.395358
X-APPLE-STRUCTURED-LOCATION;VALUE=URI;X-ADDRESS=FHP Clubhouse 47 Forest Hill Drive West Milford NJ 07480 United States;X-APPLE-RADIUS=500;X-TITLE=47 Forest Hill Drive:geo:-74.395358,41.027371
END:VEVENT
BEGIN:VEVENT
DTSTART;TZID=America/New_York:20150718T140000
DTEND;TZID=America/New_York:20150718T200000
DTSTAMP:20260420T013606
CREATED:20150629T060223Z
LAST-MODIFIED:20150629T060223Z
UID:10002084-1437228000-1437249600@fhphoa.com
SUMMARY:Private Party (TenHoeve)
DESCRIPTION:
URL:https://fhphoa.com/fhp-event/private-party-tenhoeve/
LOCATION:FHP Picnic Area\, 47 Forest Hill Drive\, West Milford\, 07480\, United States
CATEGORIES:Private Party
ORGANIZER;CN="Board Secretary":MAILTO:secretary@fhphoa.com
END:VEVENT
BEGIN:VEVENT
DTSTART;VALUE=DATE:20150704
DTEND;VALUE=DATE:20150705
DTSTAMP:20260420T013606
CREATED:20150325T035240Z
LAST-MODIFIED:20150325T035240Z
UID:10000056-1435968000-1436054399@fhphoa.com
SUMMARY:Independence Day
DESCRIPTION:
URL:https://fhphoa.com/fhp-event/independence-day/
LOCATION:No Venue\, West Milford\, NJ\, 07480
GEO:41.0985461;-74.3939339
END:VEVENT
BEGIN:VEVENT
DTSTART;VALUE=DATE:20150703
DTEND;VALUE=DATE:20150704
DTSTAMP:20260420T013606
CREATED:20150325T035319Z
LAST-MODIFIED:20150325T035319Z
UID:10000055-1435881600-1435967999@fhphoa.com
SUMMARY:Independence Day (Observed)
DESCRIPTION:
URL:https://fhphoa.com/fhp-event/independence-day-observed/
LOCATION:No Venue\, West Milford\, NJ\, 07480
GEO:41.0985461;-74.3939339
END:VEVENT
BEGIN:VEVENT
DTSTART;TZID=America/New_York:20150627T140000
DTEND;TZID=America/New_York:20150627T210000
DTSTAMP:20260420T013606
CREATED:20150615T143823Z
LAST-MODIFIED:20150615T143844Z
UID:10002082-1435413600-1435438800@fhphoa.com
SUMMARY:Private Party (Glueck)
DESCRIPTION:Glueck private party.  20 people in attendance.
URL:https://fhphoa.com/fhp-event/private-party-glueck/
LOCATION:FHP Picnic Area\, 47 Forest Hill Drive\, West Milford\, 07480\, United States
CATEGORIES:Private Party
ORGANIZER;CN="Board Secretary":MAILTO:secretary@fhphoa.com
END:VEVENT
BEGIN:VEVENT
DTSTART;TZID=America/New_York:20150624T140000
DTEND;TZID=America/New_York:20150624T163000
DTSTAMP:20260420T013606
CREATED:20150617T021840Z
LAST-MODIFIED:20150617T021840Z
UID:10002083-1435154400-1435163400@fhphoa.com
SUMMARY:Private Party (Kinailuk)
DESCRIPTION:
URL:https://fhphoa.com/fhp-event/private-party-kinailuk/
LOCATION:FHP Picnic Area\, 47 Forest Hill Drive\, West Milford\, 07480\, United States
CATEGORIES:Private Party
ORGANIZER;CN="Board Secretary":MAILTO:secretary@fhphoa.com
END:VEVENT
BEGIN:VEVENT
DTSTART;VALUE=DATE:20150621
DTEND;VALUE=DATE:20150622
DTSTAMP:20260420T013606
CREATED:20150325T035148Z
LAST-MODIFIED:20150325T035148Z
UID:10001057-1434844800-1434931199@fhphoa.com
SUMMARY:Father's Day
DESCRIPTION:
URL:https://fhphoa.com/fhp-event/fathers-day/
LOCATION:FHP Picnic Area\, 47 Forest Hill Drive\, West Milford\, 07480\, United States
END:VEVENT
BEGIN:VEVENT
DTSTART;TZID=America/New_York:20150607T140000
DTEND;TZID=America/New_York:20150607T160000
DTSTAMP:20260420T013606
CREATED:20150325T034843Z
LAST-MODIFIED:20160301T003941Z
UID:10001875-1433685600-1433692800@fhphoa.com
SUMMARY:June Fishing Derby
DESCRIPTION:
URL:https://fhphoa.com/fhp-event/june-fishing-derby/
LOCATION:FHP Picnic Area\, 47 Forest Hill Drive\, West Milford\, 07480\, United States
CATEGORIES:FHP Event
END:VEVENT
BEGIN:VEVENT
DTSTART;TZID=America/New_York:20150530T180000
DTEND;TZID=America/New_York:20150530T220000
DTSTAMP:20260420T013606
CREATED:20150510T120741Z
LAST-MODIFIED:20150510T120741Z
UID:10002081-1433008800-1433023200@fhphoa.com
SUMMARY:Private Party (DeRobertis)
DESCRIPTION:DeRobertis private party.  30 people in attendance.
URL:https://fhphoa.com/fhp-event/private-party-derobertis/
LOCATION:FHP Picnic Area\, 47 Forest Hill Drive\, West Milford\, 07480\, United States
CATEGORIES:Private Party
ORGANIZER;CN="Board Secretary":MAILTO:secretary@fhphoa.com
END:VEVENT
BEGIN:VEVENT
DTSTART;VALUE=DATE:20150525
DTEND;VALUE=DATE:20150526
DTSTAMP:20260420T013606
CREATED:20150325T034312Z
LAST-MODIFIED:20150325T081947Z
UID:10001882-1432512000-1432598399@fhphoa.com
SUMMARY:Memorial Day
DESCRIPTION:
URL:https://fhphoa.com/fhp-event/memorial-day/
LOCATION:No Venue\, West Milford\, NJ\, 07480
CATEGORIES:Holiday
GEO:41.0985461;-74.3939339
END:VEVENT
BEGIN:VEVENT
DTSTART;VALUE=DATE:20150523
DTEND;VALUE=DATE:20150524
DTSTAMP:20260420T013606
CREATED:20150325T082047Z
LAST-MODIFIED:20150325T082313Z
UID:10002078-1432339200-1432425599@fhphoa.com
SUMMARY:Beach Opens for the Season
DESCRIPTION:
URL:https://fhphoa.com/fhp-event/beach-opens-for-the-season/
LOCATION:FHP Picnic Area\, 47 Forest Hill Drive\, West Milford\, 07480\, United States
CATEGORIES:FHP Event
END:VEVENT
BEGIN:VEVENT
DTSTART;TZID=America/New_York:20150516T090000
DTEND;TZID=America/New_York:20150516T160000
DTSTAMP:20260420T013606
CREATED:20150325T033423Z
LAST-MODIFIED:20150325T033456Z
UID:10001883-1431766800-1431792000@fhphoa.com
SUMMARY:Spring Work Weekend (Rain Date)
DESCRIPTION:Report to the office at 9:00am to sign-in.  Lunch will be provided.  By-laws require one person over the age of sixteen (16) from each member household to participate.  Failure to participate or sign-out after the full day will result in a $200 assessment.
URL:https://fhphoa.com/fhp-event/spring-work-weekend-rain-date/
LOCATION:FHP Clubhouse\, 47 Forest Hill Drive\, West Milford\, NJ\, 07480\, United States
GEO:41.027371;-74.395358
X-APPLE-STRUCTURED-LOCATION;VALUE=URI;X-ADDRESS=FHP Clubhouse 47 Forest Hill Drive West Milford NJ 07480 United States;X-APPLE-RADIUS=500;X-TITLE=47 Forest Hill Drive:geo:-74.395358,41.027371
END:VEVENT
BEGIN:VEVENT
DTSTART;VALUE=DATE:20150510
DTEND;VALUE=DATE:20150511
DTSTAMP:20260420T013606
CREATED:20150325T034410Z
LAST-MODIFIED:20150325T034410Z
UID:10001880-1431216000-1431302399@fhphoa.com
SUMMARY:Mother's Day
DESCRIPTION:
URL:https://fhphoa.com/fhp-event/mothers-day/
LOCATION:No Venue\, West Milford\, NJ\, 07480
GEO:41.0985461;-74.3939339
END:VEVENT
BEGIN:VEVENT
DTSTART;TZID=America/New_York:20150505T110000
DTEND;TZID=America/New_York:20150505T120000
DTSTAMP:20260420T013606
CREATED:20150505T132732Z
LAST-MODIFIED:20150505T132732Z
UID:10002080-1430823600-1430827200@fhphoa.com
SUMMARY:Fred's Birthday
DESCRIPTION:This is fred’s birthday
URL:https://fhphoa.com/fhp-event/freds-birthday/
LOCATION:FHP Picnic Area\, 47 Forest Hill Drive\, West Milford\, 07480\, United States
CATEGORIES:Private Party
ATTACH;FMTTYPE=image/png:https://fhphoa.com/wp-content/uploads/2015/05/designfloat.png
END:VEVENT
BEGIN:VEVENT
DTSTART;TZID=America/New_York:20150502T090000
DTEND;TZID=America/New_York:20150502T160000
DTSTAMP:20260420T013606
CREATED:20150325T033059Z
LAST-MODIFIED:20150325T033338Z
UID:10001886-1430557200-1430582400@fhphoa.com
SUMMARY:Spring Work Weekend
DESCRIPTION:Report to the office at 9:00am to sign-in.  Lunch will be provided.  By-laws require one person over the age of sixteen (16) from each member household to participate.  Failure to participate or sign-out after the full day will result in a $200 assessment.
URL:https://fhphoa.com/fhp-event/spring-work-weekend-2/
LOCATION:FHP Clubhouse\, 47 Forest Hill Drive\, West Milford\, NJ\, 07480\, United States
GEO:41.027371;-74.395358
X-APPLE-STRUCTURED-LOCATION;VALUE=URI;X-ADDRESS=FHP Clubhouse 47 Forest Hill Drive West Milford NJ 07480 United States;X-APPLE-RADIUS=500;X-TITLE=47 Forest Hill Drive:geo:-74.395358,41.027371
END:VEVENT
BEGIN:VEVENT
DTSTART;VALUE=DATE:20150501
DTEND;VALUE=DATE:20150502
DTSTAMP:20260420T013606
CREATED:20150325T034707Z
LAST-MODIFIED:20150325T043751Z
UID:10001878-1430438400-1430524799@fhphoa.com
SUMMARY:Property Taxes Due
DESCRIPTION:
URL:https://fhphoa.com/fhp-event/property-taxes-due/2015-05-01/
LOCATION:No Venue\, West Milford\, NJ\, 07480
CATEGORIES:Reminder
GEO:41.0985461;-74.3939339
END:VEVENT
BEGIN:VEVENT
DTSTART;VALUE=DATE:20150411
DTEND;VALUE=DATE:20150412
DTSTAMP:20260420T013606
CREATED:20150330T175438Z
LAST-MODIFIED:20150330T175438Z
UID:10000007-1428710400-1428796799@fhphoa.com
SUMMARY:Last Day of Passover
DESCRIPTION:
URL:https://fhphoa.com/fhp-event/last-day-of-passover/
LOCATION:No Venue\, West Milford\, NJ\, 07480
CATEGORIES:Holiday
GEO:41.0985461;-74.3939339
END:VEVENT
BEGIN:VEVENT
DTSTART;VALUE=DATE:20150405
DTEND;VALUE=DATE:20150406
DTSTAMP:20260420T013606
CREATED:20150325T032743Z
LAST-MODIFIED:20150325T081818Z
UID:10001890-1428192000-1428278399@fhphoa.com
SUMMARY:Easter Sunday
DESCRIPTION:
URL:https://fhphoa.com/fhp-event/easter-sunday/
LOCATION:No Venue\, West Milford\, NJ\, 07480
CATEGORIES:Holiday
GEO:41.0985461;-74.3939339
END:VEVENT
BEGIN:VEVENT
DTSTART;VALUE=DATE:20150404
DTEND;VALUE=DATE:20150405
DTSTAMP:20260420T013606
CREATED:20150330T175337Z
LAST-MODIFIED:20150330T175337Z
UID:10000008-1428105600-1428191999@fhphoa.com
SUMMARY:First Day of Passover
DESCRIPTION:
URL:https://fhphoa.com/fhp-event/first-day-of-passover/
LOCATION:No Venue\, West Milford\, NJ\, 07480
CATEGORIES:Holiday
GEO:41.0985461;-74.3939339
END:VEVENT
BEGIN:VEVENT
DTSTART;TZID=America/New_York:20150329T140000
DTEND;TZID=America/New_York:20150329T170000
DTSTAMP:20260420T013606
CREATED:20150325T032610Z
LAST-MODIFIED:20150325T032610Z
UID:10001895-1427637600-1427648400@fhphoa.com
SUMMARY:Easter Egg Hunt
DESCRIPTION:Hop on over for holiday fun including crafts\, snacks and the traditional Easter Egg Hunt!!!  The event is for association member families.  Don’t forget to bring your baskets.  Please RSVP if you plan to attend.
URL:https://fhphoa.com/fhp-event/easter-egg-hunt/
LOCATION:FHP Picnic Area\, 47 Forest Hill Drive\, West Milford\, 07480\, United States
END:VEVENT
BEGIN:VEVENT
DTSTART;TZID=America/New_York:20150329T120000
DTEND;TZID=America/New_York:20150329T140000
DTSTAMP:20260420T013606
CREATED:20150327T174652Z
LAST-MODIFIED:20150327T174739Z
UID:10002076-1427630400-1427637600@fhphoa.com
SUMMARY:Office Renovation Work
DESCRIPTION:Additional demolition and cleanup efforts are needed.
URL:https://fhphoa.com/fhp-event/office-reno-work/
LOCATION:FHP Clubhouse\, 47 Forest Hill Drive\, West Milford\, NJ\, 07480\, United States
CATEGORIES:Project
GEO:41.027371;-74.395358
X-APPLE-STRUCTURED-LOCATION;VALUE=URI;X-ADDRESS=FHP Clubhouse 47 Forest Hill Drive West Milford NJ 07480 United States;X-APPLE-RADIUS=500;X-TITLE=47 Forest Hill Drive:geo:-74.395358,41.027371
END:VEVENT
BEGIN:VEVENT
DTSTART;TZID=America/New_York:20150321T190000
DTEND;TZID=America/New_York:20150321T190000
DTSTAMP:20260420T013606
CREATED:20150325T032932Z
LAST-MODIFIED:20150325T044352Z
UID:10001888-1426964400-1426964400@fhphoa.com
SUMMARY:Cabin Fever Crawl
DESCRIPTION:
URL:https://fhphoa.com/fhp-event/cabin-fever-crawl/
LOCATION:FHP Picnic Area\, 47 Forest Hill Drive\, West Milford\, 07480\, United States
CATEGORIES:FHP Event
END:VEVENT
BEGIN:VEVENT
DTSTART;TZID=America/New_York:20150318T193000
DTEND;TZID=America/New_York:20150318T230000
DTSTAMP:20260420T013606
CREATED:20150309T135849Z
LAST-MODIFIED:20150325T080308Z
UID:10002074-1426707000-1426719600@fhphoa.com
SUMMARY:Board of Trustees Meeting
DESCRIPTION:Meeting starts at 7:30pm. All members in good standing are welcome to come to the Board meeting as observers except for Executive Session.  If you would like to address the board for any reason\, please contact the Board Secretary in advance of the meeting to get on the agenda.
URL:https://fhphoa.com/fhp-event/board-of-trustees-meeting/
LOCATION:FHP Clubhouse\, 47 Forest Hill Drive\, West Milford\, NJ\, 07480\, United States
CATEGORIES:FHP Meeting
GEO:41.027371;-74.395358
X-APPLE-STRUCTURED-LOCATION;VALUE=URI;X-ADDRESS=FHP Clubhouse 47 Forest Hill Drive West Milford NJ 07480 United States;X-APPLE-RADIUS=500;X-TITLE=47 Forest Hill Drive:geo:-74.395358,41.027371
END:VEVENT
BEGIN:VEVENT
DTSTART;VALUE=DATE:20150317
DTEND;VALUE=DATE:20150318
DTSTAMP:20260420T013606
CREATED:20150310T055343Z
LAST-MODIFIED:20150330T173951Z
UID:10001897-1426550400-1426636799@fhphoa.com
SUMMARY:St. Patrick's Day
DESCRIPTION:
URL:https://fhphoa.com/fhp-event/st-patricks-day/2015-03-17/
LOCATION:No Venue\, West Milford\, NJ\, 07480
CATEGORIES:Holiday
GEO:41.0985461;-74.3939339
END:VEVENT
END:VCALENDAR