BEGIN:VCALENDAR
VERSION:2.0
PRODID:-//Forest Hill Park - ECPv6.15.17.1//NONSGML v1.0//EN
CALSCALE:GREGORIAN
METHOD:PUBLISH
X-WR-CALNAME:Forest Hill Park
X-ORIGINAL-URL:https://fhphoa.com
X-WR-CALDESC:Events for Forest Hill Park
REFRESH-INTERVAL;VALUE=DURATION:PT1H
X-Robots-Tag:noindex
X-PUBLISHED-TTL:PT1H
BEGIN:VTIMEZONE
TZID:America/New_York
BEGIN:DAYLIGHT
TZOFFSETFROM:-0500
TZOFFSETTO:-0400
TZNAME:EDT
DTSTART:20160313T070000
END:DAYLIGHT
BEGIN:STANDARD
TZOFFSETFROM:-0400
TZOFFSETTO:-0500
TZNAME:EST
DTSTART:20161106T060000
END:STANDARD
BEGIN:DAYLIGHT
TZOFFSETFROM:-0500
TZOFFSETTO:-0400
TZNAME:EDT
DTSTART:20170312T070000
END:DAYLIGHT
BEGIN:STANDARD
TZOFFSETFROM:-0400
TZOFFSETTO:-0500
TZNAME:EST
DTSTART:20171105T060000
END:STANDARD
BEGIN:DAYLIGHT
TZOFFSETFROM:-0500
TZOFFSETTO:-0400
TZNAME:EDT
DTSTART:20180311T070000
END:DAYLIGHT
BEGIN:STANDARD
TZOFFSETFROM:-0400
TZOFFSETTO:-0500
TZNAME:EST
DTSTART:20181104T060000
END:STANDARD
END:VTIMEZONE
BEGIN:VEVENT
DTSTART;TZID=America/New_York:20170128T190000
DTEND;TZID=America/New_York:20170128T230000
DTSTAMP:20260422T222151
CREATED:20160301T005211Z
LAST-MODIFIED:20160301T005211Z
UID:10002098-1485630000-1485644400@fhphoa.com
SUMMARY:Cabin Fever Crawl
DESCRIPTION:
URL:https://fhphoa.com/fhp-event/cabin-fever-crawl-2/
LOCATION:No Venue\, West Milford\, NJ\, 07480
CATEGORIES:FHP Event
ORGANIZER;CN="Gabriela Grygus":MAILTO:gabriela.grygus@nyumc.org
GEO:41.0985461;-74.3939339
END:VEVENT
END:VCALENDAR