BEGIN:VCALENDAR
VERSION:2.0
PRODID:-//Forest Hill Park - ECPv6.15.17.1//NONSGML v1.0//EN
CALSCALE:GREGORIAN
METHOD:PUBLISH
X-ORIGINAL-URL:https://fhphoa.com
X-WR-CALDESC:Events for Forest Hill Park
REFRESH-INTERVAL;VALUE=DURATION:PT1H
X-Robots-Tag:noindex
X-PUBLISHED-TTL:PT1H
BEGIN:VTIMEZONE
TZID:America/New_York
BEGIN:DAYLIGHT
TZOFFSETFROM:-0500
TZOFFSETTO:-0400
TZNAME:EDT
DTSTART:20140309T070000
END:DAYLIGHT
BEGIN:STANDARD
TZOFFSETFROM:-0400
TZOFFSETTO:-0500
TZNAME:EST
DTSTART:20141102T060000
END:STANDARD
BEGIN:DAYLIGHT
TZOFFSETFROM:-0500
TZOFFSETTO:-0400
TZNAME:EDT
DTSTART:20150308T070000
END:DAYLIGHT
BEGIN:STANDARD
TZOFFSETFROM:-0400
TZOFFSETTO:-0500
TZNAME:EST
DTSTART:20151101T060000
END:STANDARD
BEGIN:DAYLIGHT
TZOFFSETFROM:-0500
TZOFFSETTO:-0400
TZNAME:EDT
DTSTART:20160313T070000
END:DAYLIGHT
BEGIN:STANDARD
TZOFFSETFROM:-0400
TZOFFSETTO:-0500
TZNAME:EST
DTSTART:20161106T060000
END:STANDARD
END:VTIMEZONE
BEGIN:VEVENT
DTSTART;TZID=America/New_York:20151218T180000
DTEND;TZID=America/New_York:20151218T210000
DTSTAMP:20260424T191622
CREATED:20150325T041317Z
LAST-MODIFIED:20151123T211217Z
UID:10000035-1450461600-1450472400@fhphoa.com
SUMMARY:Caroling and Cookie Decorating
DESCRIPTION:Meet at the end of Berry Lane and we will go through the development and serenade the neighbors.  Please RSVP to Nikki Arata by December 11th.
URL:https://fhphoa.com/fhp-event/caroling/
LOCATION:11 Peach Lane (Grygus)\, 11 Peach Lane\, West Milford\, NJ\, 07480\, United States
CATEGORIES:FHP Event
ORGANIZER;CN="Nikki Arata":MAILTO:nikki_arata@yahoo.com
GEO:41.026632;-74.398538
X-APPLE-STRUCTURED-LOCATION;VALUE=URI;X-ADDRESS=11 Peach Lane (Grygus) 11 Peach Lane West Milford NJ 07480 United States;X-APPLE-RADIUS=500;X-TITLE=11 Peach Lane:geo:-74.398538,41.026632
END:VEVENT
END:VCALENDAR